BEGIN:VCALENDAR
VERSION:2.0
PRODID:-//Sternenturm - ECPv6.5.1.3//NONSGML v1.0//EN
CALSCALE:GREGORIAN
METHOD:PUBLISH
X-WR-CALNAME:Sternenturm
X-ORIGINAL-URL:https://www.sternenturm.at
X-WR-CALDESC:Veranstaltungen für Sternenturm
REFRESH-INTERVAL;VALUE=DURATION:PT1H
X-Robots-Tag:noindex
X-PUBLISHED-TTL:PT1H
BEGIN:VTIMEZONE
TZID:Europe/Rome
BEGIN:DAYLIGHT
TZOFFSETFROM:+0100
TZOFFSETTO:+0200
TZNAME:CEST
DTSTART:20750331T010000
END:DAYLIGHT
BEGIN:STANDARD
TZOFFSETFROM:+0200
TZOFFSETTO:+0100
TZNAME:CET
DTSTART:20751027T010000
END:STANDARD
BEGIN:DAYLIGHT
TZOFFSETFROM:+0100
TZOFFSETTO:+0200
TZNAME:CEST
DTSTART:20760329T010000
END:DAYLIGHT
BEGIN:STANDARD
TZOFFSETFROM:+0200
TZOFFSETTO:+0100
TZNAME:CET
DTSTART:20761025T010000
END:STANDARD
BEGIN:DAYLIGHT
TZOFFSETFROM:+0100
TZOFFSETTO:+0200
TZNAME:CEST
DTSTART:20770328T010000
END:DAYLIGHT
BEGIN:STANDARD
TZOFFSETFROM:+0200
TZOFFSETTO:+0100
TZNAME:CET
DTSTART:20771031T010000
END:STANDARD
END:VTIMEZONE
BEGIN:VEVENT
DTSTART;TZID=Europe/Rome:20751004T170000
DTEND;TZID=Europe/Rome:20770321T180000
DTSTAMP:20260422T025308
CREATED:20240118T150901Z
LAST-MODIFIED:20260416T125643Z
UID:10004117-3337434000-3383575200@www.sternenturm.at
SUMMARY:Phantom des Universums
DESCRIPTION:
URL:https://www.sternenturm.at/event/phantom-des-universums/2075-10-04/
CATEGORIES:Reguläre Show
END:VEVENT
END:VCALENDAR