BEGIN:VCALENDAR
VERSION:2.0
PRODID:-//Sternenturm - ECPv6.5.1.3//NONSGML v1.0//EN
CALSCALE:GREGORIAN
METHOD:PUBLISH
X-WR-CALNAME:Sternenturm
X-ORIGINAL-URL:https://www.sternenturm.at
X-WR-CALDESC:Veranstaltungen für Sternenturm
REFRESH-INTERVAL;VALUE=DURATION:PT1H
X-Robots-Tag:noindex
X-PUBLISHED-TTL:PT1H
BEGIN:VTIMEZONE
TZID:Europe/Rome
BEGIN:DAYLIGHT
TZOFFSETFROM:+0100
TZOFFSETTO:+0200
TZNAME:CEST
DTSTART:20260329T010000
END:DAYLIGHT
BEGIN:STANDARD
TZOFFSETFROM:+0200
TZOFFSETTO:+0100
TZNAME:CET
DTSTART:20261025T010000
END:STANDARD
END:VTIMEZONE
BEGIN:VEVENT
DTSTART;TZID=Europe/Rome:20260426T133000
DTEND;TZID=Europe/Rome:20260426T143000
DTSTAMP:20260426T015545
CREATED:20230405T072910Z
LAST-MODIFIED:20260416T074051Z
UID:10003876-1777210200-1777213800@www.sternenturm.at
SUMMARY:Into The Deep
DESCRIPTION:
URL:https://www.sternenturm.at/event/into-the-deep/2026-04-26/
CATEGORIES:Reguläre Show
END:VEVENT
BEGIN:VEVENT
DTSTART;TZID=Europe/Rome:20260426T150000
DTEND;TZID=Europe/Rome:20260426T160000
DTSTAMP:20260426T015545
CREATED:20260119T103745Z
LAST-MODIFIED:20260416T073034Z
UID:10003931-1777215600-1777219200@www.sternenturm.at
SUMMARY:Der kleine Major Tom
DESCRIPTION:
URL:https://www.sternenturm.at/event/der-kleine-major-tom/2026-04-26/
CATEGORIES:Kindervorstellung
END:VEVENT
BEGIN:VEVENT
DTSTART;TZID=Europe/Rome:20260426T160000
DTEND;TZID=Europe/Rome:20260426T170000
DTSTAMP:20260426T015545
CREATED:20230406T192227Z
LAST-MODIFIED:20260416T084302Z
UID:10003923-1777219200-1777222800@www.sternenturm.at
SUMMARY:Astronaut
DESCRIPTION:
URL:https://www.sternenturm.at/event/astronaut/2026-04-26/
CATEGORIES:Reguläre Show
END:VEVENT
BEGIN:VEVENT
DTSTART;TZID=Europe/Rome:20260426T170000
DTEND;TZID=Europe/Rome:20260426T180000
DTSTAMP:20260426T015545
CREATED:20230406T185408Z
LAST-MODIFIED:20260416T085149Z
UID:10003927-1777222800-1777226400@www.sternenturm.at
SUMMARY:Turmshow & Heart of The Sun
DESCRIPTION:
URL:https://www.sternenturm.at/event/turmshow-heart-of-the-sun/2026-04-26/
CATEGORIES:Reguläre Show
END:VEVENT
END:VCALENDAR