BEGIN:VCALENDAR
VERSION:2.0
PRODID:-//Sternenturm - ECPv6.5.1.3//NONSGML v1.0//EN
CALSCALE:GREGORIAN
METHOD:PUBLISH
X-WR-CALNAME:Sternenturm
X-ORIGINAL-URL:https://www.sternenturm.at
X-WR-CALDESC:Veranstaltungen für Sternenturm
REFRESH-INTERVAL;VALUE=DURATION:PT1H
X-Robots-Tag:noindex
X-PUBLISHED-TTL:PT1H
BEGIN:VTIMEZONE
TZID:Europe/Rome
BEGIN:DAYLIGHT
TZOFFSETFROM:+0100
TZOFFSETTO:+0200
TZNAME:CEST
DTSTART:20260329T010000
END:DAYLIGHT
BEGIN:STANDARD
TZOFFSETFROM:+0200
TZOFFSETTO:+0100
TZNAME:CET
DTSTART:20261025T010000
END:STANDARD
END:VTIMEZONE
BEGIN:VEVENT
DTSTART;TZID=Europe/Rome:20260424T150000
DTEND;TZID=Europe/Rome:20260424T160000
DTSTAMP:20260424T015057
CREATED:20230406T192227Z
LAST-MODIFIED:20260416T084302Z
UID:10003922-1777042800-1777046400@www.sternenturm.at
SUMMARY:Astronaut
DESCRIPTION:
URL:https://www.sternenturm.at/event/astronaut/2026-04-24/
CATEGORIES:Reguläre Show
END:VEVENT
BEGIN:VEVENT
DTSTART;TZID=Europe/Rome:20260424T160000
DTEND;TZID=Europe/Rome:20260424T170000
DTSTAMP:20260424T015057
CREATED:20230406T193304Z
LAST-MODIFIED:20260422T133014Z
UID:10003941-1777046400-1777050000@www.sternenturm.at
SUMMARY:Europe to the Stars
DESCRIPTION:
URL:https://www.sternenturm.at/event/europe-to-the-stars/2026-04-24/
END:VEVENT
BEGIN:VEVENT
DTSTART;TZID=Europe/Rome:20260424T170000
DTEND;TZID=Europe/Rome:20260424T180000
DTSTAMP:20260424T015057
CREATED:20240118T150901Z
LAST-MODIFIED:20260416T125643Z
UID:10003960-1777050000-1777053600@www.sternenturm.at
SUMMARY:Phantom des Universums
DESCRIPTION:
URL:https://www.sternenturm.at/event/phantom-des-universums/2026-04-24/
CATEGORIES:Reguläre Show
END:VEVENT
END:VCALENDAR