BEGIN:VCALENDAR
VERSION:2.0
PRODID:-//Sternenturm - ECPv6.5.1.3//NONSGML v1.0//EN
CALSCALE:GREGORIAN
METHOD:PUBLISH
X-WR-CALNAME:Sternenturm
X-ORIGINAL-URL:https://www.sternenturm.at
X-WR-CALDESC:Veranstaltungen für Sternenturm
REFRESH-INTERVAL;VALUE=DURATION:PT1H
X-Robots-Tag:noindex
X-PUBLISHED-TTL:PT1H
BEGIN:VTIMEZONE
TZID:Europe/Rome
BEGIN:DAYLIGHT
TZOFFSETFROM:+0100
TZOFFSETTO:+0200
TZNAME:CEST
DTSTART:20260329T010000
END:DAYLIGHT
BEGIN:STANDARD
TZOFFSETFROM:+0200
TZOFFSETTO:+0100
TZNAME:CET
DTSTART:20261025T010000
END:STANDARD
END:VTIMEZONE
BEGIN:VEVENT
DTSTART;TZID=Europe/Rome:20260422T150000
DTEND;TZID=Europe/Rome:20260422T160000
DTSTAMP:20260422T020740
CREATED:20181129T115257Z
LAST-MODIFIED:20260416T081343Z
UID:10003892-1776870000-1776873600@www.sternenturm.at
SUMMARY:Ursprung des Lebens
DESCRIPTION:  \n 
URL:https://www.sternenturm.at/event/ursprung-des-lebes/2026-04-22/
CATEGORIES:Reguläre Show
END:VEVENT
BEGIN:VEVENT
DTSTART;TZID=Europe/Rome:20260422T160000
DTEND;TZID=Europe/Rome:20260422T170000
DTSTAMP:20260422T020740
CREATED:20250826T090144Z
LAST-MODIFIED:20260416T075738Z
UID:10003886-1776873600-1776877200@www.sternenturm.at
SUMMARY:From Earth To The Universe
DESCRIPTION:
URL:https://www.sternenturm.at/event/from-earth-to-the-universe-2/2026-04-22/
END:VEVENT
BEGIN:VEVENT
DTSTART;TZID=Europe/Rome:20260422T170000
DTEND;TZID=Europe/Rome:20260422T180000
DTSTAMP:20260422T020740
CREATED:20181128T223238Z
LAST-MODIFIED:20260416T080120Z
UID:10003907-1776877200-1776880800@www.sternenturm.at
SUMMARY:Black Holes
DESCRIPTION:Was sind schwarze Löcher\, wie entstehen sie und wie kann man sie überhaupt entdecken? All diesen Fragen wird in dieser Show auf den Grund gegangen.
URL:https://www.sternenturm.at/event/black-holes/2026-04-22/
END:VEVENT
END:VCALENDAR